BEGIN:VCALENDAR
VERSION:2.0
PRODID:-//Gewerbeverein Melchnau - ECPv5.16.0//NONSGML v1.0//EN
CALSCALE:GREGORIAN
METHOD:PUBLISH
X-ORIGINAL-URL:https://gewerbeverein.kevinwyss.ch
X-WR-CALDESC:Veranstaltungen für Gewerbeverein Melchnau
REFRESH-INTERVAL;VALUE=DURATION:PT1H
X-Robots-Tag:noindex
X-PUBLISHED-TTL:PT1H
BEGIN:VTIMEZONE
TZID:Europe/Zurich
BEGIN:DAYLIGHT
TZOFFSETFROM:+0100
TZOFFSETTO:+0200
TZNAME:CEST
DTSTART:20220327T010000
END:DAYLIGHT
BEGIN:STANDARD
TZOFFSETFROM:+0200
TZOFFSETTO:+0100
TZNAME:CET
DTSTART:20221030T010000
END:STANDARD
END:VTIMEZONE
BEGIN:VEVENT
DTSTART;VALUE=DATE:20220819
DTEND;VALUE=DATE:20220821
DTSTAMP:20260425T215725
CREATED:20220428T080308Z
LAST-MODIFIED:20220428T080308Z
UID:695-1660867200-1661039999@gewerbeverein.kevinwyss.ch
SUMMARY:Einachserrennen Melchnau
DESCRIPTION:Datum: 19. August 2022 \nZeit: 17:00 bis 23:59 Uhr \nOrt: Bodmen
URL:https://gewerbeverein.kevinwyss.ch/event/einachserrennen-melchnau/
LOCATION:Bodmen Melchnau\, Bodmen\, Melchnau\, Bern\, 4917\, Schweiz
END:VEVENT
END:VCALENDAR